BEGIN:VCALENDAR
VERSION:2.0
PRODID:Stripo.email
BEGIN:VEVENT
UID:69e6040505afe
DTSTAMP:20260420T104629Z
DTSTART;TZID=Europe/Rome;VALUE=DATE:20260430
DTEND;TZID=Europe/Rome;VALUE=DATE:20261031
SUMMARY:5x1000 ad Associazione La Tenda APS
DESCRIPTION:Il tuo 5×1000 ad Associazione La Tenda APS! Codice Fiscale: 90
 032590136\nIl 730 dovrà essere presentato entro il 30 settembre\; il Mode
 llo Reddditi Persone fisiche entro il 31 ottobre.
CLASS:PUBLIC
X-MICROSOFT-CDO-ALLDAYEVENT:TRUE
X-ALT-DESC;FMTTYPE=text/html:<p>Il tuo 5×1000 ad Associazione La Tenda APS
 ! Codice Fiscale: 90032590136<br>Il 730 dovrà essere presentato entro il 
 30 settembre\; il Modello Reddditi Persone fisiche entro il 31 ottobre.</p
 >
END:VEVENT
END:VCALENDAR